BEGIN:VCALENDAR
VERSION:2.0
PRODID:-//Mountain Area Christian Academy - ECPv6.15.18//NONSGML v1.0//EN
CALSCALE:GREGORIAN
METHOD:PUBLISH
X-ORIGINAL-URL:https://macalions.org
X-WR-CALDESC:Events for Mountain Area Christian Academy
REFRESH-INTERVAL;VALUE=DURATION:PT1H
X-Robots-Tag:noindex
X-PUBLISHED-TTL:PT1H
BEGIN:VTIMEZONE
TZID:America/New_York
BEGIN:DAYLIGHT
TZOFFSETFROM:-0500
TZOFFSETTO:-0400
TZNAME:EDT
DTSTART:20250309T070000
END:DAYLIGHT
BEGIN:STANDARD
TZOFFSETFROM:-0400
TZOFFSETTO:-0500
TZNAME:EST
DTSTART:20251102T060000
END:STANDARD
BEGIN:DAYLIGHT
TZOFFSETFROM:-0500
TZOFFSETTO:-0400
TZNAME:EDT
DTSTART:20260308T070000
END:DAYLIGHT
BEGIN:STANDARD
TZOFFSETFROM:-0400
TZOFFSETTO:-0500
TZNAME:EST
DTSTART:20261101T060000
END:STANDARD
BEGIN:DAYLIGHT
TZOFFSETFROM:-0500
TZOFFSETTO:-0400
TZNAME:EDT
DTSTART:20270314T070000
END:DAYLIGHT
BEGIN:STANDARD
TZOFFSETFROM:-0400
TZOFFSETTO:-0500
TZNAME:EST
DTSTART:20271107T060000
END:STANDARD
END:VTIMEZONE
BEGIN:VEVENT
DTSTART;TZID=America/New_York:20260324T153000
DTEND;TZID=America/New_York:20260324T183000
DTSTAMP:20260420T043604
CREATED:20260323T140218Z
LAST-MODIFIED:20260323T140218Z
UID:10000284-1774366200-1774377000@macalions.org
SUMMARY:Golf Match
DESCRIPTION:At Copper Basin
URL:https://macalions.org/event/golf-match/
CATEGORIES:Athletics
END:VEVENT
BEGIN:VEVENT
DTSTART;TZID=America/New_York:20260327T160000
DTEND;TZID=America/New_York:20260327T180000
DTSTAMP:20260420T043604
CREATED:20260323T134935Z
LAST-MODIFIED:20260323T134935Z
UID:10000280-1774627200-1774634400@macalions.org
SUMMARY:Flag Football Game
DESCRIPTION:Away @ OSCS
URL:https://macalions.org/event/flag-football-game-2/
CATEGORIES:Athletics
END:VEVENT
BEGIN:VEVENT
DTSTART;TZID=America/New_York:20260331T163000
DTEND;TZID=America/New_York:20260331T183000
DTSTAMP:20260420T043604
CREATED:20260323T134152Z
LAST-MODIFIED:20260323T134827Z
UID:10000279-1774974600-1774981800@macalions.org
SUMMARY:Flag Football Game
DESCRIPTION:Home Vs People’s Baptist
URL:https://macalions.org/event/flag-football-game/
CATEGORIES:Athletics
END:VEVENT
END:VCALENDAR