BEGIN:VCALENDAR
VERSION:2.0
PRODID:-//Mountain Area Christian Academy - ECPv6.15.18//NONSGML v1.0//EN
CALSCALE:GREGORIAN
METHOD:PUBLISH
X-ORIGINAL-URL:https://macalions.org
X-WR-CALDESC:Events for Mountain Area Christian Academy
REFRESH-INTERVAL;VALUE=DURATION:PT1H
X-Robots-Tag:noindex
X-PUBLISHED-TTL:PT1H
BEGIN:VTIMEZONE
TZID:America/New_York
BEGIN:DAYLIGHT
TZOFFSETFROM:-0500
TZOFFSETTO:-0400
TZNAME:EDT
DTSTART:20230312T070000
END:DAYLIGHT
BEGIN:STANDARD
TZOFFSETFROM:-0400
TZOFFSETTO:-0500
TZNAME:EST
DTSTART:20231105T060000
END:STANDARD
BEGIN:DAYLIGHT
TZOFFSETFROM:-0500
TZOFFSETTO:-0400
TZNAME:EDT
DTSTART:20240310T070000
END:DAYLIGHT
BEGIN:STANDARD
TZOFFSETFROM:-0400
TZOFFSETTO:-0500
TZNAME:EST
DTSTART:20241103T060000
END:STANDARD
BEGIN:DAYLIGHT
TZOFFSETFROM:-0500
TZOFFSETTO:-0400
TZNAME:EDT
DTSTART:20250309T070000
END:DAYLIGHT
BEGIN:STANDARD
TZOFFSETFROM:-0400
TZOFFSETTO:-0500
TZNAME:EST
DTSTART:20251102T060000
END:STANDARD
BEGIN:DAYLIGHT
TZOFFSETFROM:-0500
TZOFFSETTO:-0400
TZNAME:EDT
DTSTART:20260308T070000
END:DAYLIGHT
BEGIN:STANDARD
TZOFFSETFROM:-0400
TZOFFSETTO:-0500
TZNAME:EST
DTSTART:20261101T060000
END:STANDARD
BEGIN:DAYLIGHT
TZOFFSETFROM:-0500
TZOFFSETTO:-0400
TZNAME:EDT
DTSTART:20270314T070000
END:DAYLIGHT
BEGIN:STANDARD
TZOFFSETFROM:-0400
TZOFFSETTO:-0500
TZNAME:EST
DTSTART:20271107T060000
END:STANDARD
END:VTIMEZONE
BEGIN:VEVENT
DTSTART;TZID=America/New_York:20241212T160000
DTEND;TZID=America/New_York:20241212T180000
DTSTAMP:20260423T070933
CREATED:20241115T153715Z
LAST-MODIFIED:20241115T153715Z
UID:10000171-1734019200-1734026400@macalions.org
SUMMARY:Dress Rehearsal for Drama class
DESCRIPTION:Students in the Drama class will have dress rehearsal.
URL:https://macalions.org/event/dress-rehearsal-for-drama-class/
CATEGORIES:Athletics,School Year Calendar
END:VEVENT
BEGIN:VEVENT
DTSTART;TZID=America/New_York:20241213T180000
DTEND;TZID=America/New_York:20241213T193000
DTSTAMP:20260423T070933
CREATED:20241115T160859Z
LAST-MODIFIED:20241119T162254Z
UID:10000172-1734112800-1734118200@macalions.org
SUMMARY:A Cratchit Family Christmas
DESCRIPTION:Drama Department presents A Cratchit Family Christmas! They will provide Christmas Cookies while the Juniors sell hot chocolate
URL:https://macalions.org/event/a-cratchit-family-christmas/
CATEGORIES:Athletics,School Year Calendar
ORGANIZER;CN="Elizabeth Roesch":MAILTO:eroesch@macalions.org
END:VEVENT
BEGIN:VEVENT
DTSTART;TZID=America/New_York:20241216T081500
DTEND;TZID=America/New_York:20241216T151500
DTSTAMP:20260423T070933
CREATED:20241115T162354Z
LAST-MODIFIED:20241115T162354Z
UID:10000173-1734336900-1734362100@macalions.org
SUMMARY:High School Finals
DESCRIPTION:High School department will be taking finals for first semester. It is imperative that students be present for the finals for their classes.
URL:https://macalions.org/event/high-school-finals/2024-12-16/
CATEGORIES:Athletics,School Year Calendar
END:VEVENT
BEGIN:VEVENT
DTSTART;TZID=America/New_York:20241217T081500
DTEND;TZID=America/New_York:20241217T151500
DTSTAMP:20260423T070933
CREATED:20241115T162354Z
LAST-MODIFIED:20241115T162354Z
UID:10000174-1734423300-1734448500@macalions.org
SUMMARY:High School Finals
DESCRIPTION:High School department will be taking finals for first semester. It is imperative that students be present for the finals for their classes.
URL:https://macalions.org/event/high-school-finals/2024-12-17/
CATEGORIES:Athletics,School Year Calendar
END:VEVENT
BEGIN:VEVENT
DTSTART;TZID=America/New_York:20241220T083000
DTEND;TZID=America/New_York:20241220T153000
DTSTAMP:20260423T070933
CREATED:20241115T195007Z
LAST-MODIFIED:20241115T195515Z
UID:10000179-1734683400-1734708600@macalions.org
SUMMARY:Office Open
DESCRIPTION:
URL:https://macalions.org/event/office-open-2/
CATEGORIES:Athletics,School Year Calendar
END:VEVENT
BEGIN:VEVENT
DTSTART;TZID=America/New_York:20241230T083000
DTEND;TZID=America/New_York:20241230T153000
DTSTAMP:20260423T070933
CREATED:20241115T195626Z
LAST-MODIFIED:20241115T195706Z
UID:10000180-1735547400-1735572600@macalions.org
SUMMARY:Office Open
DESCRIPTION:
URL:https://macalions.org/event/office-open-3/2024-12-30/
CATEGORIES:Athletics,School Year Calendar
END:VEVENT
BEGIN:VEVENT
DTSTART;TZID=America/New_York:20241231T083000
DTEND;TZID=America/New_York:20241231T153000
DTSTAMP:20260423T070933
CREATED:20241115T195626Z
LAST-MODIFIED:20241115T195706Z
UID:10000181-1735633800-1735659000@macalions.org
SUMMARY:Office Open
DESCRIPTION:
URL:https://macalions.org/event/office-open-3/2024-12-31/
CATEGORIES:Athletics,School Year Calendar
END:VEVENT
BEGIN:VEVENT
DTSTART;TZID=America/New_York:20250102T083000
DTEND;TZID=America/New_York:20250102T153000
DTSTAMP:20260423T070933
CREATED:20241115T195626Z
LAST-MODIFIED:20241115T195706Z
UID:10000182-1735806600-1735831800@macalions.org
SUMMARY:Office Open
DESCRIPTION:
URL:https://macalions.org/event/office-open-3/2025-01-02/
CATEGORIES:Athletics,School Year Calendar
END:VEVENT
BEGIN:VEVENT
DTSTART;TZID=America/New_York:20250103T083000
DTEND;TZID=America/New_York:20250103T153000
DTSTAMP:20260423T070933
CREATED:20241119T162156Z
LAST-MODIFIED:20241119T162156Z
UID:10000184-1735893000-1735918200@macalions.org
SUMMARY:Professional Development NO STUDENTS
DESCRIPTION:All staff returns but students will not return until January 6th.
URL:https://macalions.org/event/professional-development-no-students-2/
CATEGORIES:Athletics,School Year Calendar
END:VEVENT
BEGIN:VEVENT
DTSTART;TZID=America/New_York:20250821T170000
DTEND;TZID=America/New_York:20250821T190000
DTSTAMP:20260423T070933
CREATED:20250604T165555Z
LAST-MODIFIED:20250604T165555Z
UID:10000205-1755795600-1755802800@macalions.org
SUMMARY:Volleyball Game vs Lighthouse
DESCRIPTION:
URL:https://macalions.org/event/volleyball-game-vs-lighthouse/
LOCATION:Mountain Area Christian Academy\, 14090 Old Highway 76\, Morganton\, GA\, 30560\, United States
CATEGORIES:Athletics
END:VEVENT
BEGIN:VEVENT
DTSTART;TZID=America/New_York:20250902T170000
DTEND;TZID=America/New_York:20250902T190000
DTSTAMP:20260423T070933
CREATED:20250815T151006Z
LAST-MODIFIED:20250815T151249Z
UID:10000251-1756832400-1756839600@macalions.org
SUMMARY:Away Volleyball Game MACA vs Philadelphia
DESCRIPTION:
URL:https://macalions.org/event/away-volleyball-game-maca-vs-philadelphia/
CATEGORIES:Athletics
END:VEVENT
BEGIN:VEVENT
DTSTART;TZID=America/New_York:20250905T170000
DTEND;TZID=America/New_York:20250905T190000
DTSTAMP:20260423T070933
CREATED:20250815T151354Z
LAST-MODIFIED:20250815T151354Z
UID:10000252-1757091600-1757098800@macalions.org
SUMMARY:Away Volleyball Game MACA vs Old Suwanee
DESCRIPTION:
URL:https://macalions.org/event/away-volleyball-game-maca-vs-old-suwanee/
CATEGORIES:Athletics
END:VEVENT
BEGIN:VEVENT
DTSTART;TZID=America/New_York:20250909T170000
DTEND;TZID=America/New_York:20250909T190000
DTSTAMP:20260423T070933
CREATED:20250815T151505Z
LAST-MODIFIED:20250815T151505Z
UID:10000253-1757437200-1757444400@macalions.org
SUMMARY:Away Volleyball Game MACA vs Lighthouse Teams
DESCRIPTION:
URL:https://macalions.org/event/away-volleyball-game-maca-vs-lighthouse-teams/
CATEGORIES:Athletics
END:VEVENT
BEGIN:VEVENT
DTSTART;TZID=America/New_York:20250915T163000
DTEND;TZID=America/New_York:20250915T193000
DTSTAMP:20260423T070933
CREATED:20250815T151729Z
LAST-MODIFIED:20250815T151729Z
UID:10000254-1757953800-1757964600@macalions.org
SUMMARY:Home Volleyball Tri-Match MACA vs Jackson and NG
DESCRIPTION:
URL:https://macalions.org/event/home-volleyball-tri-match-maca-vs-jackson-and-ng/
CATEGORIES:Athletics
END:VEVENT
BEGIN:VEVENT
DTSTART;TZID=America/New_York:20250916T170000
DTEND;TZID=America/New_York:20250916T190000
DTSTAMP:20260423T070933
CREATED:20250815T151833Z
LAST-MODIFIED:20250911T143234Z
UID:10000255-1758042000-1758049200@macalions.org
SUMMARY:Away Volleyball Game MACA vs East Gate\, Double Header- Varsity Only
DESCRIPTION:
URL:https://macalions.org/event/away-volleyball-game-maca-vs-east-gate-double-header/
CATEGORIES:Athletics
END:VEVENT
BEGIN:VEVENT
DTSTART;TZID=America/New_York:20250918T180000
DTEND;TZID=America/New_York:20250918T200000
DTSTAMP:20260423T070933
CREATED:20250815T152114Z
LAST-MODIFIED:20250815T152114Z
UID:10000256-1758218400-1758225600@macalions.org
SUMMARY:Away Volleyball Game MACA vs. Dogwood
DESCRIPTION:
URL:https://macalions.org/event/away-volleyball-game-maca-vs-dogwood/
CATEGORIES:Athletics
END:VEVENT
BEGIN:VEVENT
DTSTART;TZID=America/New_York:20250919T170000
DTEND;TZID=America/New_York:20250919T190000
DTSTAMP:20260423T070933
CREATED:20250815T152214Z
LAST-MODIFIED:20250911T143056Z
UID:10000257-1758301200-1758308400@macalions.org
SUMMARY:Away Volleyball Game MACA vs North Georgia Tournament- JV Only
DESCRIPTION:
URL:https://macalions.org/event/away-volleyball-game-maca-vs-north-georgia-tournament/
CATEGORIES:Athletics
END:VEVENT
BEGIN:VEVENT
DTSTART;TZID=America/New_York:20250923T170000
DTEND;TZID=America/New_York:20250923T190000
DTSTAMP:20260423T070933
CREATED:20250815T152309Z
LAST-MODIFIED:20250911T142958Z
UID:10000258-1758646800-1758654000@macalions.org
SUMMARY:Home Volleyball Game MACA vs Old Suwanee- Varsity Only
DESCRIPTION:
URL:https://macalions.org/event/home-volleyball-game-maca-vs-old-suwanee/
CATEGORIES:Athletics
END:VEVENT
BEGIN:VEVENT
DTSTART;TZID=America/New_York:20250929T170000
DTEND;TZID=America/New_York:20250929T190000
DTSTAMP:20260423T070933
CREATED:20250815T152404Z
LAST-MODIFIED:20250911T142710Z
UID:10000259-1759165200-1759172400@macalions.org
SUMMARY:Home Volleyball Game MACA vs Philadelphia- Varsity Only
DESCRIPTION:
URL:https://macalions.org/event/home-volleyball-game-maca-vs-philadelphia/
CATEGORIES:Athletics
END:VEVENT
BEGIN:VEVENT
DTSTART;TZID=America/New_York:20251007T170000
DTEND;TZID=America/New_York:20251007T190000
DTSTAMP:20260423T070933
CREATED:20250815T152611Z
LAST-MODIFIED:20250815T152611Z
UID:10000260-1759856400-1759863600@macalions.org
SUMMARY:Home Volleyball Game MACA vs Dogwood
DESCRIPTION:
URL:https://macalions.org/event/home-volleyball-game-maca-vs-dogwood/
CATEGORIES:Athletics
END:VEVENT
BEGIN:VEVENT
DTSTART;TZID=America/New_York:20260324T153000
DTEND;TZID=America/New_York:20260324T183000
DTSTAMP:20260423T070933
CREATED:20260323T140218Z
LAST-MODIFIED:20260323T140218Z
UID:10000284-1774366200-1774377000@macalions.org
SUMMARY:Golf Match
DESCRIPTION:At Copper Basin
URL:https://macalions.org/event/golf-match/
CATEGORIES:Athletics
END:VEVENT
BEGIN:VEVENT
DTSTART;TZID=America/New_York:20260327T160000
DTEND;TZID=America/New_York:20260327T180000
DTSTAMP:20260423T070933
CREATED:20260323T134935Z
LAST-MODIFIED:20260323T134935Z
UID:10000280-1774627200-1774634400@macalions.org
SUMMARY:Flag Football Game
DESCRIPTION:Away @ OSCS
URL:https://macalions.org/event/flag-football-game-2/
CATEGORIES:Athletics
END:VEVENT
BEGIN:VEVENT
DTSTART;TZID=America/New_York:20260331T163000
DTEND;TZID=America/New_York:20260331T183000
DTSTAMP:20260423T070933
CREATED:20260323T134152Z
LAST-MODIFIED:20260323T134827Z
UID:10000279-1774974600-1774981800@macalions.org
SUMMARY:Flag Football Game
DESCRIPTION:Home Vs People’s Baptist
URL:https://macalions.org/event/flag-football-game/
CATEGORIES:Athletics
END:VEVENT
BEGIN:VEVENT
DTSTART;TZID=America/New_York:20260402T160000
DTEND;TZID=America/New_York:20260402T190000
DTSTAMP:20260423T070933
CREATED:20260323T140337Z
LAST-MODIFIED:20260323T140337Z
UID:10000285-1775145600-1775156400@macalions.org
SUMMARY:Golf Match
DESCRIPTION:At Foundation
URL:https://macalions.org/event/golf-match-2/
CATEGORIES:Athletics
END:VEVENT
BEGIN:VEVENT
DTSTART;TZID=America/New_York:20260413T160000
DTEND;TZID=America/New_York:20260413T180000
DTSTAMP:20260423T070933
CREATED:20260323T140419Z
LAST-MODIFIED:20260323T140419Z
UID:10000286-1776096000-1776103200@macalions.org
SUMMARY:Golf Match
DESCRIPTION:At Jackson Trail
URL:https://macalions.org/event/golf-match-3/
CATEGORIES:Athletics
END:VEVENT
BEGIN:VEVENT
DTSTART;TZID=America/New_York:20260417T160000
DTEND;TZID=America/New_York:20260417T180000
DTSTAMP:20260423T070933
CREATED:20260323T140509Z
LAST-MODIFIED:20260323T140509Z
UID:10000287-1776441600-1776448800@macalions.org
SUMMARY:Golf Match
DESCRIPTION:At Double Oaks
URL:https://macalions.org/event/golf-match-4/
CATEGORIES:Athletics
END:VEVENT
BEGIN:VEVENT
DTSTART;TZID=America/New_York:20260421T160000
DTEND;TZID=America/New_York:20260421T180000
DTSTAMP:20260423T070933
CREATED:20260323T140555Z
LAST-MODIFIED:20260323T140555Z
UID:10000288-1776787200-1776794400@macalions.org
SUMMARY:Golf Match
DESCRIPTION:At Butternut Creek
URL:https://macalions.org/event/golf-match-5/
CATEGORIES:Athletics
END:VEVENT
BEGIN:VEVENT
DTSTART;TZID=America/New_York:20260421T163000
DTEND;TZID=America/New_York:20260421T183000
DTSTAMP:20260423T070933
CREATED:20260323T135125Z
LAST-MODIFIED:20260323T135125Z
UID:10000281-1776789000-1776796200@macalions.org
SUMMARY:Flag Football Game
DESCRIPTION:Home VS OSCS
URL:https://macalions.org/event/flag-football-game-3/
CATEGORIES:Athletics
END:VEVENT
BEGIN:VEVENT
DTSTART;TZID=America/New_York:20260423T170000
DTEND;TZID=America/New_York:20260423T190000
DTSTAMP:20260423T070933
CREATED:20260323T135415Z
LAST-MODIFIED:20260323T135415Z
UID:10000282-1776963600-1776970800@macalions.org
SUMMARY:Flag Football Game
DESCRIPTION:Away @ Impact Christian School
URL:https://macalions.org/event/flag-football-game-4/
CATEGORIES:Athletics
END:VEVENT
BEGIN:VEVENT
DTSTART;TZID=America/New_York:20260424T170000
DTEND;TZID=America/New_York:20260424T190000
DTSTAMP:20260423T070933
CREATED:20260323T135512Z
LAST-MODIFIED:20260323T135512Z
UID:10000283-1777050000-1777057200@macalions.org
SUMMARY:Flag Football Game
DESCRIPTION:Home VS Philadelphia
URL:https://macalions.org/event/flag-football-game-5/
CATEGORIES:Athletics
END:VEVENT
END:VCALENDAR