BEGIN:VCALENDAR
VERSION:2.0
PRODID:-//Mountain Area Christian Academy - ECPv6.15.18//NONSGML v1.0//EN
CALSCALE:GREGORIAN
METHOD:PUBLISH
X-WR-CALNAME:Mountain Area Christian Academy
X-ORIGINAL-URL:https://macalions.org
X-WR-CALDESC:Events for Mountain Area Christian Academy
REFRESH-INTERVAL;VALUE=DURATION:PT1H
X-Robots-Tag:noindex
X-PUBLISHED-TTL:PT1H
BEGIN:VTIMEZONE
TZID:America/New_York
BEGIN:DAYLIGHT
TZOFFSETFROM:-0500
TZOFFSETTO:-0400
TZNAME:EDT
DTSTART:20230312T070000
END:DAYLIGHT
BEGIN:STANDARD
TZOFFSETFROM:-0400
TZOFFSETTO:-0500
TZNAME:EST
DTSTART:20231105T060000
END:STANDARD
BEGIN:DAYLIGHT
TZOFFSETFROM:-0500
TZOFFSETTO:-0400
TZNAME:EDT
DTSTART:20240310T070000
END:DAYLIGHT
BEGIN:STANDARD
TZOFFSETFROM:-0400
TZOFFSETTO:-0500
TZNAME:EST
DTSTART:20241103T060000
END:STANDARD
BEGIN:DAYLIGHT
TZOFFSETFROM:-0500
TZOFFSETTO:-0400
TZNAME:EDT
DTSTART:20250309T070000
END:DAYLIGHT
BEGIN:STANDARD
TZOFFSETFROM:-0400
TZOFFSETTO:-0500
TZNAME:EST
DTSTART:20251102T060000
END:STANDARD
END:VTIMEZONE
BEGIN:VEVENT
DTSTART;TZID=America/New_York:20241101T170000
DTEND;TZID=America/New_York:20241101T170000
DTSTAMP:20260422T043257
CREATED:20241025T143014Z
LAST-MODIFIED:20241025T143014Z
UID:10000160-1730480400-1730480400@macalions.org
SUMMARY:Tip Off Tournament cont. @ White Creek
DESCRIPTION:The Tip Off Tournament is continued
URL:https://macalions.org/event/tip-off-tournament-cont-white-creek/2024-11-01/
LOCATION:White Creek Christian Academy\, 67 Academy Drive\, Cleveland\, GA\, 30528\, United States
CATEGORIES:Athletics
END:VEVENT
BEGIN:VEVENT
DTSTART;TZID=America/New_York:20241031T170000
DTEND;TZID=America/New_York:20241031T183000
DTSTAMP:20260422T043257
CREATED:20241025T142750Z
LAST-MODIFIED:20241025T142750Z
UID:10000159-1730394000-1730399400@macalions.org
SUMMARY:HOME GAME vs Barnes Christian Academy
DESCRIPTION:Let’s pack the gym with LION fans!! This is our first home game of the season!
URL:https://macalions.org/event/home-game-vs-barnes-christian-academy/
LOCATION:Mountain Area Christian Academy\, 14090 Old Highway 76\, Morganton\, GA\, 30560\, United States
CATEGORIES:Athletics,School Year Calendar
END:VEVENT
BEGIN:VEVENT
DTSTART;TZID=America/New_York:20241029T170000
DTEND;TZID=America/New_York:20241029T200000
DTSTAMP:20260422T043257
CREATED:20241025T125226Z
LAST-MODIFIED:20241025T125226Z
UID:10000158-1730221200-1730232000@macalions.org
SUMMARY:Tip Off Tournament @White Creek
DESCRIPTION:Varsity Boys will be playing in a tournament at White Creek.
URL:https://macalions.org/event/tip-off-tournament-white-creek/
LOCATION:White Creek Christian Academy\, 67 Academy Drive\, Cleveland\, GA\, 30528\, United States
CATEGORIES:Athletics
END:VEVENT
BEGIN:VEVENT
DTSTART;TZID=America/New_York:20241018T080000
DTEND;TZID=America/New_York:20241019T170000
DTSTAMP:20260422T043257
CREATED:20240827T165909Z
LAST-MODIFIED:20240827T165909Z
UID:10000144-1729238400-1729357200@macalions.org
SUMMARY:Varsity Volleyball State Tournament
DESCRIPTION:
URL:https://macalions.org/event/varsity-volleyball-state-tournament/
CATEGORIES:Athletics,School Year Calendar
END:VEVENT
BEGIN:VEVENT
DTSTART;TZID=America/New_York:20241004T160000
DTEND;TZID=America/New_York:20241004T183000
DTSTAMP:20260422T043257
CREATED:20240827T164013Z
LAST-MODIFIED:20240827T164013Z
UID:10000143-1728057600-1728066600@macalions.org
SUMMARY:Volleyball game away @ Philadelphia
DESCRIPTION:Middle School and Varsity with play Philly.
URL:https://macalions.org/event/volleyball-game-away-philadelphia/
LOCATION:Philadelphia Baptist\, 4783 Adairsville Rd NE\, Adairsville\, GA\, 30103\, United States
CATEGORIES:Athletics,School Year Calendar
END:VEVENT
BEGIN:VEVENT
DTSTART;TZID=America/New_York:20241002T080000
DTEND;TZID=America/New_York:20241002T170000
DTSTAMP:20260422T043257
CREATED:20240827T155643Z
LAST-MODIFIED:20240827T171236Z
UID:10000139-1727856000-1727888400@macalions.org
SUMMARY:PICTURE DAY
DESCRIPTION:Please be sure that your child is present this day for school wide pictures. More information is sent with your child.
URL:https://macalions.org/event/picture-day/
CATEGORIES:Athletics,School Year Calendar
END:VEVENT
BEGIN:VEVENT
DTSTART;TZID=America/New_York:20241001T160000
DTEND;TZID=America/New_York:20241001T183000
DTSTAMP:20260422T043257
CREATED:20240827T152317Z
LAST-MODIFIED:20240827T152317Z
UID:10000138-1727798400-1727807400@macalions.org
SUMMARY:Volleyball Game away @Friendship
DESCRIPTION:Middle School and Varsity play Friendship.
URL:https://macalions.org/event/volleyball-game-away-friendship/
LOCATION:Friendship Christian School\, 3160 Old Atlanta Road\, Suwanee\, GA\, 30024\, United States
CATEGORIES:Athletics,School Year Calendar
END:VEVENT
BEGIN:VEVENT
DTSTART;TZID=America/New_York:20240924T160000
DTEND;TZID=America/New_York:20240924T183000
DTSTAMP:20260422T043257
CREATED:20240826T200959Z
LAST-MODIFIED:20240826T200959Z
UID:10000137-1727193600-1727202600@macalions.org
SUMMARY:Volleyball HOME game vs Sugarhill
DESCRIPTION:Middle School and Varsity vs Sugarhill
URL:https://macalions.org/event/volleyball-home-game-vs-sugarhill/
LOCATION:Mountain Area Christian Academy\, 14090 Old Highway 76\, Morganton\, GA\, 30560\, United States
CATEGORIES:Athletics,School Year Calendar
END:VEVENT
BEGIN:VEVENT
DTSTART;TZID=America/New_York:20240923T160000
DTEND;TZID=America/New_York:20240923T183000
DTSTAMP:20260422T043257
CREATED:20240826T200455Z
LAST-MODIFIED:20240826T200455Z
UID:10000136-1727107200-1727116200@macalions.org
SUMMARY:Volleyball game away @ NGCA
DESCRIPTION:Middle School and Varsity game at NGCA.
URL:https://macalions.org/event/volleyball-game-away-ngca/
LOCATION:NGCA\, 208 Victory Circle Ste 200\, Ellijay\, GA\, 30540\, United States
CATEGORIES:Athletics,School Year Calendar
END:VEVENT
BEGIN:VEVENT
DTSTART;TZID=America/New_York:20240919T163000
DTEND;TZID=America/New_York:20240919T190000
DTSTAMP:20260422T043257
CREATED:20240826T183728Z
LAST-MODIFIED:20240826T183728Z
UID:10000134-1726763400-1726772400@macalions.org
SUMMARY:Volleyball HOME game vs Lighthouse
DESCRIPTION:Middle School and Varsity play Lighthouse at HOME!
URL:https://macalions.org/event/volleyball-home-game-vs-lighthouse/
CATEGORIES:Athletics,School Year Calendar
END:VEVENT
BEGIN:VEVENT
DTSTART;TZID=America/New_York:20240917T160000
DTEND;TZID=America/New_York:20240917T183000
DTSTAMP:20260422T043257
CREATED:20240826T183036Z
LAST-MODIFIED:20240826T183036Z
UID:10000133-1726588800-1726597800@macalions.org
SUMMARY:Volleyball Game away @ Covenant Christian
DESCRIPTION:Middle School and Varsity game at Covenant Christian.
URL:https://macalions.org/event/volleyball-game-away-covenant-christian/
LOCATION:Covenant Christian Academy\, 6905 Post Road\, Cumming\, GA\, 30040\, United States
CATEGORIES:Athletics,School Year Calendar
END:VEVENT
BEGIN:VEVENT
DTSTART;TZID=America/New_York:20240916T170000
DTEND;TZID=America/New_York:20240916T183000
DTSTAMP:20260422T043257
CREATED:20240826T181202Z
LAST-MODIFIED:20240826T181342Z
UID:10000132-1726506000-1726511400@macalions.org
SUMMARY:HOME Varsity Volleyball game vs Dogwood
DESCRIPTION:Varsity home game against Dogwood
URL:https://macalions.org/event/home-varsity-volleyball-game-vs-dogwood/
CATEGORIES:Athletics,School Year Calendar
END:VEVENT
BEGIN:VEVENT
DTSTART;TZID=America/New_York:20240913T160000
DTEND;TZID=America/New_York:20240913T183000
DTSTAMP:20260422T043257
CREATED:20240826T174801Z
LAST-MODIFIED:20240826T175037Z
UID:10000131-1726243200-1726252200@macalions.org
SUMMARY:Volleyball Game @ HOME vs Trinity
DESCRIPTION:Middle School and High School volleyball game against Trinity.
URL:https://macalions.org/event/volleyball-game-home-vs-trinity/
CATEGORIES:Athletics,School Year Calendar
END:VEVENT
BEGIN:VEVENT
DTSTART;TZID=America/New_York:20240906T170000
DTEND;TZID=America/New_York:20240906T190000
DTSTAMP:20260422T043257
CREATED:20240826T151459Z
LAST-MODIFIED:20240826T151459Z
UID:10000128-1725642000-1725649200@macalions.org
SUMMARY:Volleyball Game Away @Dogwood
DESCRIPTION:Middle School and High School Volleyball teams will play at Dogwood!
URL:https://macalions.org/event/volleyball-game-away-dogwood/
LOCATION:Dogwood\, 5296 Dogwood Valley\, Tunnel Hill\, GA\, 30755\, United States
CATEGORIES:Athletics,School Year Calendar
END:VEVENT
BEGIN:VEVENT
DTSTART;TZID=America/New_York:20240903T160000
DTEND;TZID=America/New_York:20240903T183000
DTSTAMP:20260422T043257
CREATED:20240826T142555Z
LAST-MODIFIED:20240826T142555Z
UID:10000124-1725379200-1725388200@macalions.org
SUMMARY:Volleyball game HOME vs Victory
DESCRIPTION:Middle School and Varsity games at home against Victory.
URL:https://macalions.org/event/volleyball-game-home-vs-victory/
CATEGORIES:Athletics,School Year Calendar
END:VEVENT
BEGIN:VEVENT
DTSTART;TZID=America/New_York:20240903T140000
DTEND;TZID=America/New_York:20240903T150000
DTSTAMP:20260422T043257
CREATED:20240826T141853Z
LAST-MODIFIED:20240826T141853Z
UID:10000123-1725372000-1725375600@macalions.org
SUMMARY:Volleyball Pictures
DESCRIPTION:Volleyball pictures – please bring uniforms and be ready to dress out!
URL:https://macalions.org/event/volleyball-pictures/
CATEGORIES:Athletics,School Year Calendar
END:VEVENT
BEGIN:VEVENT
DTSTART;TZID=America/New_York:20240826T160000
DTEND;TZID=America/New_York:20240826T180000
DTSTAMP:20260422T043257
CREATED:20240826T133806Z
LAST-MODIFIED:20240826T133806Z
UID:10000122-1724688000-1724695200@macalions.org
SUMMARY:Varsity Girls Volleyball Game - HOME - against Philly
DESCRIPTION:Varsity Girls Volleyball Game
URL:https://macalions.org/event/varsity-girls-volleyball-game-home-against-philly/
LOCATION:Mountain Area Christian Academy\, 14090 Old Highway 76\, Morganton\, GA\, 30560\, United States
CATEGORIES:Athletics,School Year Calendar
END:VEVENT
BEGIN:VEVENT
DTSTART;TZID=America/New_York:20240823T160000
DTEND;TZID=America/New_York:20240823T183000
DTSTAMP:20260422T043257
CREATED:20240815T172511Z
LAST-MODIFIED:20240815T172511Z
UID:10000116-1724428800-1724437800@macalions.org
SUMMARY:Girls Volleyball HOME GAME! Against Covenant
DESCRIPTION:
URL:https://macalions.org/event/girls-volleyball-home-game-against-covenant/
CATEGORIES:Athletics,School Year Calendar
END:VEVENT
BEGIN:VEVENT
DTSTART;VALUE=DATE:20240820
DTEND;VALUE=DATE:20240821
DTSTAMP:20260422T043257
CREATED:20240815T172342Z
LAST-MODIFIED:20240815T172342Z
UID:10000115-1724112000-1724198399@macalions.org
SUMMARY:Girls Volleyball Game @ Murphy
DESCRIPTION:
URL:https://macalions.org/event/girls-volleyball-game-murphy/
CATEGORIES:Athletics,School Year Calendar
END:VEVENT
BEGIN:VEVENT
DTSTART;VALUE=DATE:20240816
DTEND;VALUE=DATE:20240817
DTSTAMP:20260422T043257
CREATED:20240814T233229Z
LAST-MODIFIED:20240815T172215Z
UID:10000114-1723766400-1723852799@macalions.org
SUMMARY:Volleyball Game @ Victory
DESCRIPTION:
URL:https://macalions.org/event/volleyball-game-victory/
CATEGORIES:Athletics,School Year Calendar
END:VEVENT
BEGIN:VEVENT
DTSTART;VALUE=DATE:20240215
DTEND;VALUE=DATE:20240218
DTSTAMP:20260422T043257
CREATED:20231214T213458Z
LAST-MODIFIED:20231214T213458Z
UID:10000027-1707955200-1708214399@macalions.org
SUMMARY:Basketball State Tournament- Victory Baptist (Away) Time TBA
DESCRIPTION:
URL:https://macalions.org/event/basketball-state-tournament-victory-baptist-away-time-tba/
CATEGORIES:Athletics
ATTACH;FMTTYPE=application/pdf:https://macalions.org/wp-content/uploads/2023/12/Basketball-Background-4-4.pdf
END:VEVENT
BEGIN:VEVENT
DTSTART;TZID=America/New_York:20240212T080000
DTEND;TZID=America/New_York:20240212T170000
DTSTAMP:20260422T043257
CREATED:20231214T213339Z
LAST-MODIFIED:20231214T213339Z
UID:10000026-1707724800-1707757200@macalions.org
SUMMARY:Basketball Game- Dogwood (Away)
DESCRIPTION:Varsity Girls/ Varsity Boys
URL:https://macalions.org/event/basketball-game-dogwood-away/
CATEGORIES:Athletics
ATTACH;FMTTYPE=application/pdf:https://macalions.org/wp-content/uploads/2023/12/Basketball-Background-4-3.pdf
END:VEVENT
BEGIN:VEVENT
DTSTART;TZID=America/New_York:20240210T100000
DTEND;TZID=America/New_York:20240210T123000
DTSTAMP:20260422T043257
CREATED:20231227T183717Z
LAST-MODIFIED:20231227T183717Z
UID:10000041-1707559200-1707568200@macalions.org
SUMMARY:Basketball Game- Trinity (Away)
DESCRIPTION:Varsity Girls/ Varsity Boys
URL:https://macalions.org/event/basketball-game-trinity-away/
CATEGORIES:Athletics
ATTACH;FMTTYPE=application/pdf:https://macalions.org/wp-content/uploads/2023/12/Basketball-Background-4-6.pdf
END:VEVENT
BEGIN:VEVENT
DTSTART;TZID=America/New_York:20240209T173000
DTEND;TZID=America/New_York:20240209T190000
DTSTAMP:20260422T043257
CREATED:20231214T213201Z
LAST-MODIFIED:20240104T185526Z
UID:10000025-1707499800-1707505200@macalions.org
SUMMARY:Basketball Game- Cleveland Christian (Homecoming)
DESCRIPTION:Varsity Boys
URL:https://macalions.org/event/basketball-game-cleveland-christian-home/
CATEGORIES:Athletics
ATTACH;FMTTYPE=application/pdf:https://macalions.org/wp-content/uploads/2023/12/Homecoming-Background.pdf
END:VEVENT
BEGIN:VEVENT
DTSTART;TZID=America/New_York:20240208T160000
DTEND;TZID=America/New_York:20240208T183000
DTSTAMP:20260422T043257
CREATED:20231227T183557Z
LAST-MODIFIED:20240110T154259Z
UID:10000040-1707408000-1707417000@macalions.org
SUMMARY:Basketball Game- Eastgate
DESCRIPTION:Varsity Girls/ Varsity Boys
URL:https://macalions.org/event/basketball-game-eastgate-senior-night/
CATEGORIES:Athletics
ATTACH;FMTTYPE=application/pdf:https://macalions.org/wp-content/uploads/2023/12/Basketball-Background-2-5.pdf
END:VEVENT
BEGIN:VEVENT
DTSTART;TZID=America/New_York:20240206T160000
DTEND;TZID=America/New_York:20240206T180000
DTSTAMP:20260422T043257
CREATED:20231214T211928Z
LAST-MODIFIED:20231214T211928Z
UID:10000023-1707235200-1707242400@macalions.org
SUMMARY:Basketball Game- North Georgia (Home)
DESCRIPTION:Varsity Girls/ Varsity Boys
URL:https://macalions.org/event/basketball-game-north-georgia-home-2/
CATEGORIES:Athletics
ATTACH;FMTTYPE=application/pdf:https://macalions.org/wp-content/uploads/2023/12/Basketball-Background-4-1.pdf
END:VEVENT
BEGIN:VEVENT
DTSTART;TZID=America/New_York:20240205T160000
DTEND;TZID=America/New_York:20240205T183000
DTSTAMP:20260422T043257
CREATED:20231214T211822Z
LAST-MODIFIED:20231214T211951Z
UID:10000022-1707148800-1707157800@macalions.org
SUMMARY:Basketball Game- Friendship (Home)
DESCRIPTION:Middle School Boys/ Varsity Boys \nVarsity Girls (TBD)
URL:https://macalions.org/event/basketball-game-friendship-home/
CATEGORIES:Athletics
ATTACH;FMTTYPE=application/pdf:https://macalions.org/wp-content/uploads/2023/12/Basketball-Background-4.pdf
END:VEVENT
BEGIN:VEVENT
DTSTART;TZID=America/New_York:20240201T170000
DTEND;TZID=America/New_York:20240201T190000
DTSTAMP:20260422T043257
CREATED:20231214T200623Z
LAST-MODIFIED:20240110T155753Z
UID:10000021-1706806800-1706814000@macalions.org
SUMMARY:Basketball Game- Dogwood (Home- SENIOR NIGHT)
DESCRIPTION:Varsity Girls/ Varsity Boys
URL:https://macalions.org/event/basketball-game-dogwood-home/
CATEGORIES:Athletics
ATTACH;FMTTYPE=image/png:https://macalions.org/wp-content/uploads/2023/12/SENIOR-NIGHT-Basketball-Background-1.png
END:VEVENT
BEGIN:VEVENT
DTSTART;TZID=America/New_York:20240130T163000
DTEND;TZID=America/New_York:20240130T183000
DTSTAMP:20260422T043257
CREATED:20231214T200439Z
LAST-MODIFIED:20231214T200439Z
UID:10000020-1706632200-1706639400@macalions.org
SUMMARY:Basketball Game- White Creek (Home)
DESCRIPTION:Varsity Girls/ Varsity Boys
URL:https://macalions.org/event/basketball-game-white-creek-home/
CATEGORIES:Athletics
ATTACH;FMTTYPE=application/pdf:https://macalions.org/wp-content/uploads/2023/12/Basketball-Background-3-10.pdf
END:VEVENT
BEGIN:VEVENT
DTSTART;TZID=America/New_York:20240129T163000
DTEND;TZID=America/New_York:20240129T183000
DTSTAMP:20260422T043257
CREATED:20231214T200122Z
LAST-MODIFIED:20231214T200122Z
UID:10000019-1706545800-1706553000@macalions.org
SUMMARY:Basketball Game- North Georgia Ellijay (Away)
DESCRIPTION:Varsity Girls/ Varsity Boys
URL:https://macalions.org/event/basketball-game-north-georgia-ellijay-away/
CATEGORIES:Athletics
ATTACH;FMTTYPE=application/pdf:https://macalions.org/wp-content/uploads/2023/12/Basketball-Background-3-9.pdf
END:VEVENT
END:VCALENDAR