BEGIN:VCALENDAR
VERSION:2.0
PRODID:-//Mountain Area Christian Academy - ECPv6.15.18//NONSGML v1.0//EN
CALSCALE:GREGORIAN
METHOD:PUBLISH
X-ORIGINAL-URL:https://macalions.org
X-WR-CALDESC:Events for Mountain Area Christian Academy
REFRESH-INTERVAL;VALUE=DURATION:PT1H
X-Robots-Tag:noindex
X-PUBLISHED-TTL:PT1H
BEGIN:VTIMEZONE
TZID:America/New_York
BEGIN:DAYLIGHT
TZOFFSETFROM:-0500
TZOFFSETTO:-0400
TZNAME:EDT
DTSTART:20240310T070000
END:DAYLIGHT
BEGIN:STANDARD
TZOFFSETFROM:-0400
TZOFFSETTO:-0500
TZNAME:EST
DTSTART:20241103T060000
END:STANDARD
BEGIN:DAYLIGHT
TZOFFSETFROM:-0500
TZOFFSETTO:-0400
TZNAME:EDT
DTSTART:20250309T070000
END:DAYLIGHT
BEGIN:STANDARD
TZOFFSETFROM:-0400
TZOFFSETTO:-0500
TZNAME:EST
DTSTART:20251102T060000
END:STANDARD
BEGIN:DAYLIGHT
TZOFFSETFROM:-0500
TZOFFSETTO:-0400
TZNAME:EDT
DTSTART:20260308T070000
END:DAYLIGHT
BEGIN:STANDARD
TZOFFSETFROM:-0400
TZOFFSETTO:-0500
TZNAME:EST
DTSTART:20261101T060000
END:STANDARD
END:VTIMEZONE
BEGIN:VEVENT
DTSTART;TZID=America/New_York:20251111T143000
DTEND;TZID=America/New_York:20251111T150000
DTSTAMP:20260421T063755
CREATED:20250605T125905Z
LAST-MODIFIED:20250605T125905Z
UID:10000212-1762871400-1762873200@macalions.org
SUMMARY:Veteran's Day Program
DESCRIPTION:
URL:https://macalions.org/event/veterans-day-program-2/
CATEGORIES:School Year Calendar
END:VEVENT
BEGIN:VEVENT
DTSTART;VALUE=DATE:20251117
DTEND;VALUE=DATE:20251118
DTSTAMP:20260421T063755
CREATED:20250605T171144Z
LAST-MODIFIED:20250605T171144Z
UID:10000239-1763337600-1763423999@macalions.org
SUMMARY:High School Field Trip to BJU
DESCRIPTION:The High School students will be going to see King Lear performed by the BJU Fine Arts department. More information will be available soon!
URL:https://macalions.org/event/high-school-field-trip-to-bju/
CATEGORIES:School Year Calendar
END:VEVENT
BEGIN:VEVENT
DTSTART;TZID=America/New_York:20251121T113000
DTEND;TZID=America/New_York:20251121T130000
DTSTAMP:20260421T063755
CREATED:20250605T130141Z
LAST-MODIFIED:20250605T130141Z
UID:10000213-1763724600-1763730000@macalions.org
SUMMARY:MACA Thanksgiving Lunch
DESCRIPTION:MACA Families are encouraged to come have a Thanksgiving meal with your student and fellowship with other parents. Sign-up link will be published soon.
URL:https://macalions.org/event/maca-thanksgiving-lunch/
CATEGORIES:School Year Calendar
END:VEVENT
BEGIN:VEVENT
DTSTART;VALUE=DATE:20251124
DTEND;VALUE=DATE:20251129
DTSTAMP:20260421T063755
CREATED:20250605T130249Z
LAST-MODIFIED:20250605T130249Z
UID:10000214-1763942400-1764374399@macalions.org
SUMMARY:Thanksgiving Break
DESCRIPTION:
URL:https://macalions.org/event/thanksgiving-break-3/
CATEGORIES:School Year Calendar
END:VEVENT
END:VCALENDAR